BEGIN:VCALENDAR
VERSION:2.0
PRODID:-//wp-events-plugin.com//7.2.3.1//EN
TZID:America/New_York
X-WR-TIMEZONE:America/New_York
BEGIN:VEVENT
UID:7@valleyriding.org
DTSTART;TZID=America/New_York:20201010T100000
DTEND;TZID=America/New_York:20201010T140000
DTSTAMP:20220816T002110Z
URL:https://valleyriding.org/events/annies-equestrienne-apparel-fall-trunk
 -show/
SUMMARY:Annie's Equestrienne Apparel Fall Trunk Show
DESCRIPTION:https://anniesusa.com/\n\nCome to Rocky River Stables and try o
 n some new equestrian fashion.\n\nExtra Bonus: Percentage of all proceeds 
 will be donated to the "Unemployed Lesson Ponies" of Valley Riding Inc.\n\
 nMasks and social distancing will be required for everyone's safety.
CATEGORIES:Our Fundraisers
END:VEVENT
BEGIN:VTIMEZONE
TZID:America/New_York
X-LIC-LOCATION:America/New_York
BEGIN:DAYLIGHT
DTSTART:20200308T030000
TZOFFSETFROM:-0500
TZOFFSETTO:-0400
TZNAME:EDT
END:DAYLIGHT
END:VTIMEZONE
END:VCALENDAR