BEGIN:VCALENDAR
VERSION:2.0
PRODID:-//wp-events-plugin.com//7.2.3.1//EN
TZID:America/New_York
X-WR-TIMEZONE:America/New_York
BEGIN:VEVENT
UID:36@valleyriding.org
DTSTART;TZID=America/New_York:20160507T160000
DTEND;TZID=America/New_York:20160507T200000
DTSTAMP:20220816T002516Z
URL:https://valleyriding.org/events/annual-dust-boots-kentucky-derby-benef
 it/
SUMMARY:Annual Dusty Boots Kentucky Derby Benefit
DESCRIPTION:
CATEGORIES:Our Fundraisers
END:VEVENT
BEGIN:VTIMEZONE
TZID:America/New_York
X-LIC-LOCATION:America/New_York
BEGIN:DAYLIGHT
DTSTART:20160313T030000
TZOFFSETFROM:-0500
TZOFFSETTO:-0400
TZNAME:EDT
END:DAYLIGHT
END:VTIMEZONE
END:VCALENDAR