BEGIN:VCALENDAR
VERSION:2.0
PRODID:-//wp-events-plugin.com//7.2.3.1//EN
TZID:America/New_York
X-WR-TIMEZONE:America/New_York
BEGIN:VEVENT
UID:66@valleyriding.org
DTSTART;TZID=America/New_York:20251221T130000
DTEND;TZID=America/New_York:20251221T150000
DTSTAMP:20251128T221755Z
URL:https://valleyriding.org/events/christmas-pony-rides-2/
SUMMARY:Christmas Pony Rides
DESCRIPTION:The Valley Riding horses and ponies invite you to join in some 
 festive equine fun on December 21st from 1–3 PM! Bring the whole family 
 to enjoy Christmas pony rides\, hot cocoa\, photo opps\, and a visit with 
 Santa. Pony and horse rides are open to individuals ages 5+ with a weight 
 limit of 160lbs. Rides will be held in an indoor arena so the fun continue
 s in any weather. $20 per ride - cash only.
END:VEVENT
BEGIN:VTIMEZONE
TZID:America/New_York
X-LIC-LOCATION:America/New_York
BEGIN:STANDARD
DTSTART:20251102T010000
TZOFFSETFROM:-0400
TZOFFSETTO:-0500
TZNAME:EST
END:STANDARD
END:VTIMEZONE
END:VCALENDAR