BEGIN:VCALENDAR
VERSION:2.0
PRODID:-//wp-events-plugin.com//7.2.3.1//EN
TZID:America/New_York
X-WR-TIMEZONE:America/New_York
BEGIN:VEVENT
UID:42@valleyriding.org
DTSTART;TZID=America/New_York:20150827T170000
DTEND;TZID=America/New_York:20150827T200000
DTSTAMP:20220816T002549Z
URL:https://valleyriding.org/events/moes-southwest-grill-vri-fundraiser/
SUMMARY:Moe's Southwest Grill VRI Fundraiser
DESCRIPTION:Valley Riding Fundraiser @ Moe's Southwest Grill\n\nThursday\, 
 August 27\, 2015  5:00PM - 8:00PM\n\nALL YOU CAN EAT with $10.00 donation
 !  All proceeds go directly to Valley Riding Inc.
END:VEVENT
BEGIN:VTIMEZONE
TZID:America/New_York
X-LIC-LOCATION:America/New_York
BEGIN:DAYLIGHT
DTSTART:20150308T030000
TZOFFSETFROM:-0500
TZOFFSETTO:-0400
TZNAME:EDT
END:DAYLIGHT
END:VTIMEZONE
END:VCALENDAR