BEGIN:VCALENDAR
VERSION:2.0
PRODID:-//wp-events-plugin.com//7.2.3.1//EN
TZID:America/New_York
X-WR-TIMEZONE:America/New_York
BEGIN:VEVENT
UID:38@valleyriding.org
DTSTART;TZID=America/New_York:20150907T090000
DTEND;TZID=America/New_York:20150907T150000
DTSTAMP:20220816T002519Z
URL:https://valleyriding.org/events/noda-dressage-show/
SUMMARY:NODA Dressage Show
DESCRIPTION:
CATEGORIES:Shows
END:VEVENT
BEGIN:VTIMEZONE
TZID:America/New_York
X-LIC-LOCATION:America/New_York
BEGIN:DAYLIGHT
DTSTART:20150308T030000
TZOFFSETFROM:-0500
TZOFFSETTO:-0400
TZNAME:EDT
END:DAYLIGHT
END:VTIMEZONE
END:VCALENDAR