BEGIN:VCALENDAR
VERSION:2.0
PRODID:-//wp-events-plugin.com//7.2.3.1//EN
TZID:America/New_York
X-WR-TIMEZONE:America/New_York
BEGIN:VEVENT
UID:2@valleyriding.org
DTSTART;TZID=America/New_York:20220821T070000
DTEND;TZID=America/New_York:20220821T170000
DTSTAMP:20220820T175321Z
URL:https://valleyriding.org/events/northern-ohio-dressage-association-sch
 ooling-show/
SUMMARY:Northern Ohio Dressage Association Schooling Show
DESCRIPTION:www.nodarider.org for more information
LOCATION:Rocky River Stables\, 19901 Puritas Ave\, Cleveland\, Ohio\, 44135
 \, United States
X-APPLE-STRUCTURED-LOCATION;VALUE=URI;X-ADDRESS=19901 Puritas Ave\, Clevela
 nd\, Ohio\, 44135\, United States;X-APPLE-RADIUS=100;X-TITLE=Rocky River S
 tables:geo:0,0
END:VEVENT
BEGIN:VTIMEZONE
TZID:America/New_York
X-LIC-LOCATION:America/New_York
BEGIN:DAYLIGHT
DTSTART:20220313T030000
TZOFFSETFROM:-0500
TZOFFSETTO:-0400
TZNAME:EDT
END:DAYLIGHT
END:VTIMEZONE
END:VCALENDAR