BEGIN:VCALENDAR
VERSION:2.0
PRODID:-//wp-events-plugin.com//7.2.3.1//EN
TZID:America/New_York
X-WR-TIMEZONE:America/New_York
BEGIN:VEVENT
UID:60@valleyriding.org
DTSTART;TZID=America/New_York;VALUE=DATE:20250413
DTEND;TZID=America/New_York;VALUE=DATE:20250414
DTSTAMP:20250226T220045Z
URL:https://valleyriding.org/events/spring-2025-horse-show/
SUMMARY:Spring 2025 Horse Show
DESCRIPTION:Join us for our annual Spring Schooling Show at Rocky River Sta
 bles. NOTE: there will be no lessons this day.
END:VEVENT
BEGIN:VTIMEZONE
TZID:America/New_York
X-LIC-LOCATION:America/New_York
BEGIN:DAYLIGHT
DTSTART:20250309T030000
TZOFFSETFROM:-0500
TZOFFSETTO:-0400
TZNAME:EDT
END:DAYLIGHT
END:VTIMEZONE
END:VCALENDAR