BEGIN:VCALENDAR
VERSION:2.0
PRODID:-//wp-events-plugin.com//7.2.3.1//EN
TZID:America/New_York
X-WR-TIMEZONE:America/New_York
BEGIN:VEVENT
UID:57@valleyriding.org
DTSTART;TZID=America/New_York:20240414T080000
DTEND;TZID=America/New_York:20240414T170000
DTSTAMP:20240207T183118Z
URL:https://valleyriding.org/events/spring-schooling-horse-show-2/
SUMMARY:Spring Schooling Horse Show
DESCRIPTION:
CATEGORIES:Shows
LOCATION:Rocky River Stables\, 19901 Puritas Ave\, Cleveland\, Ohio\, 44135
 \, United States
X-APPLE-STRUCTURED-LOCATION;VALUE=URI;X-ADDRESS=19901 Puritas Ave\, Clevela
 nd\, Ohio\, 44135\, United States;X-APPLE-RADIUS=100;X-TITLE=Rocky River S
 tables:geo:0,0
END:VEVENT
BEGIN:VTIMEZONE
TZID:America/New_York
X-LIC-LOCATION:America/New_York
BEGIN:DAYLIGHT
DTSTART:20240310T030000
TZOFFSETFROM:-0500
TZOFFSETTO:-0400
TZNAME:EDT
END:DAYLIGHT
END:VTIMEZONE
END:VCALENDAR