BEGIN:VCALENDAR
VERSION:2.0
PRODID:-//wp-events-plugin.com//7.2.3.1//EN
TZID:America/New_York
X-WR-TIMEZONE:America/New_York
BEGIN:VEVENT
UID:9@valleyriding.org
DTSTART;TZID=America/New_York:20220514T090000
DTEND;TZID=America/New_York:20220515T170000
DTSTAMP:20220816T002115Z
URL:https://valleyriding.org/events/valley-riding-inc-schooling-horse-show
 /
SUMMARY:Valley Riding Inc. Schooling Horse Show
DESCRIPTION:More information Coming Soon!
END:VEVENT
BEGIN:VTIMEZONE
TZID:America/New_York
X-LIC-LOCATION:America/New_York
BEGIN:DAYLIGHT
DTSTART:20220313T030000
TZOFFSETFROM:-0500
TZOFFSETTO:-0400
TZNAME:EDT
END:DAYLIGHT
END:VTIMEZONE
END:VCALENDAR