BEGIN:VCALENDAR
VERSION:2.0
PRODID:-//wp-events-plugin.com//7.2.3.1//EN
TZID:America/New_York
X-WR-TIMEZONE:America/New_York
BEGIN:VEVENT
UID:58@valleyriding.org
DTSTART;TZID=America/New_York;VALUE=DATE:20240501
DTEND;TZID=America/New_York;VALUE=DATE:20240616
DTSTAMP:20240405T170208Z
URL:https://valleyriding.org/events/walk-in-flower-sale-fundraiser-with-de
 ans-greenhouse/
SUMMARY:Walk-In Flower Sale Fundraiser with Dean's Greenhouse
DESCRIPTION:Mention Valley Riding Inc. when you shop at Dean's Greenhouse M
 ay 1st - June 15th and we will receive 30% of your sale price.
CATEGORIES:Our Fundraisers
LOCATION:Dean’s Greenhouse\, 3984 Porter Rd\, Westlake\, Ohio\, 44145\, U
 nited States
X-APPLE-STRUCTURED-LOCATION;VALUE=URI;X-ADDRESS=3984 Porter Rd\, Westlake\,
  Ohio\, 44145\, United States;X-APPLE-RADIUS=100;X-TITLE=Dean’s Greenhou
 se:geo:0,0
END:VEVENT
BEGIN:VTIMEZONE
TZID:America/New_York
X-LIC-LOCATION:America/New_York
BEGIN:DAYLIGHT
DTSTART:20240310T030000
TZOFFSETFROM:-0500
TZOFFSETTO:-0400
TZNAME:EDT
END:DAYLIGHT
END:VTIMEZONE
END:VCALENDAR