BEGIN:VCALENDAR
VERSION:2.0
PRODID:-//wp-events-plugin.com//7.2.3.1//EN
TZID:America/New_York
X-WR-TIMEZONE:America/New_York
BEGIN:VEVENT
UID:8@valleyriding.org
DTSTART;TZID=America/New_York;VALUE=DATE:20210501
DTEND;TZID=America/New_York;VALUE=DATE:20210601
DTSTAMP:20220816T002113Z
URL:https://valleyriding.org/events/walk-in-flower-sale-fundraiser/
SUMMARY:"Walk-in" Flower Sale Fundraiser
DESCRIPTION:Valley Riding will receive 20{4014cafefc105cd55000ef3670f98b0ff
 add225948cac67bf3c73a8d3b876bc4} of your bill at Dean's Greenhouse during 
 the month of May towards our fundraising efforts if you print this flyer o
 r bring it with you on your phone.\n\n[gview file="https://valleyriding.or
 g/wp-content/uploads/2021/04/FLower-sale-flyer.pdf"]
CATEGORIES:Our Fundraisers
END:VEVENT
BEGIN:VTIMEZONE
TZID:America/New_York
X-LIC-LOCATION:America/New_York
BEGIN:DAYLIGHT
DTSTART:20210314T030000
TZOFFSETFROM:-0500
TZOFFSETTO:-0400
TZNAME:EDT
END:DAYLIGHT
END:VTIMEZONE
END:VCALENDAR